BEGIN:VCALENDAR
VERSION:2.0
PRODID:-//Plone.org//NONSGML plone.app.event//EN
X-WR-TIMEZONE:US/Central
BEGIN:VEVENT
SUMMARY:Summer Reading Program - Tethered Hot Air Balloon
DTSTART;TZID=US/Central:20250625T190000
DTEND;TZID=US/Central:20250625T210000
DTSTAMP:20260422T111140Z
UID:1fb75ecd92ae4ce2aa74ae2a5d535ef0@saas_stack_varnish:6080
CONTACT:https://www.dulanylibrary.org/calendar-news/summer-reading
CREATED:20250607T161623Z
DESCRIPTION:Tethered Hot Air Balloon Event
LAST-MODIFIED:20250623T162328Z
LOCATION:Pott's Park
URL:https://www.dulanylibrary.org/summer-reading-program-tethered-hot-air-
 balloon
END:VEVENT
BEGIN:VTIMEZONE
TZID:US/Central
X-LIC-LOCATION:US/Central
BEGIN:DAYLIGHT
DTSTART:20250309T030000
TZNAME:CDT
TZOFFSETFROM:-0600
TZOFFSETTO:-0500
END:DAYLIGHT
END:VTIMEZONE
END:VCALENDAR
