BEGIN:VCALENDAR
VERSION:2.0
PRODID:-//Plone.org//NONSGML plone.app.event//EN
X-WR-TIMEZONE:US/Central
BEGIN:VEVENT
SUMMARY:Summer Reading Program Tethered Hot Air Balloon Event
DTSTART;TZID=US/Central:20240625T183000
DTEND;TZID=US/Central:20240625T203000
DTSTAMP:20260423T014733Z
UID:536140c21c6a4991b16d71762c3aa22f@saas_stack_varnish:6080
CONTACT:salisburydulanylibrary@gmail.com\, https://www.dulanylibrary.org/c
 alendar-news/summer-reading
CREATED:20240614T172910Z
DESCRIPTION:Summer Reading Program Tethered Hot Air Balloon Event
LAST-MODIFIED:20240614T172916Z
LOCATION:105 N. Willie Ave.
URL:https://www.dulanylibrary.org/summer-reading-program-tethered-hot-air-
 balloon-event
END:VEVENT
BEGIN:VTIMEZONE
TZID:US/Central
X-LIC-LOCATION:US/Central
BEGIN:DAYLIGHT
DTSTART:20240310T030000
TZNAME:CDT
TZOFFSETFROM:-0600
TZOFFSETTO:-0500
END:DAYLIGHT
END:VTIMEZONE
END:VCALENDAR
