BEGIN:VCALENDAR
VERSION:2.0
PRODID:-//Plone.org//NONSGML plone.app.event//EN
X-WR-TIMEZONE:US/Central
BEGIN:VEVENT
SUMMARY:Library Closed: Juneteenth
DTSTART;VALUE=DATE:20280619
DTEND;VALUE=DATE:20280620
DTSTAMP:20260422T082443Z
UID:6d571bacbb2a41e99c7e32865ed1370e@saas_stack_varnish:6080
CREATED:20240614T173512Z
DESCRIPTION:The library will be closed for Juneteenth
LAST-MODIFIED:20240614T173516Z
URL:https://www.dulanylibrary.org/library-closed-juneteenth/2028-06-19
END:VEVENT
END:VCALENDAR
