BEGIN:VCALENDAR
VERSION:2.0
PRODID:-//Plone.org//NONSGML plone.app.event//EN
X-WR-TIMEZONE:US/Central
BEGIN:VEVENT
SUMMARY:Library Board Meeting
DTSTART;TZID=US/Central:20250923T173000
DTEND;TZID=US/Central:20250923T183000
DTSTAMP:20260422T053219Z
UID:5600ac1af11c411a85d0cd01883f5227@saas_stack_varnish:6080
CREATED:20250827T171750Z
DESCRIPTION:Monthly meeting of the library board and director.
LAST-MODIFIED:20250827T172118Z
URL:https://www.dulanylibrary.org/library-board-meeting-4
END:VEVENT
BEGIN:VTIMEZONE
TZID:US/Central
X-LIC-LOCATION:US/Central
BEGIN:DAYLIGHT
DTSTART:20250309T030000
TZNAME:CDT
TZOFFSETFROM:-0600
TZOFFSETTO:-0500
END:DAYLIGHT
END:VTIMEZONE
END:VCALENDAR
