BEGIN:VCALENDAR
VERSION:2.0
PRODID:-//Plone.org//NONSGML plone.app.event//EN
X-WR-TIMEZONE:US/Central
BEGIN:VEVENT
SUMMARY:Library Board Meeting
DTSTART;TZID=US/Central:20250723T180000
DTSTAMP:20260422T082443Z
UID:4b092207ec554c3886b3d9546fab36d0@saas_stack_varnish:6080
CREATED:20250624T195427Z
DESCRIPTION:Monthly meeting of the Library Board
LAST-MODIFIED:20250701T155835Z
URL:https://www.dulanylibrary.org/library-board-meeting-2
END:VEVENT
BEGIN:VTIMEZONE
TZID:US/Central
X-LIC-LOCATION:US/Central
BEGIN:DAYLIGHT
DTSTART:20250309T030000
TZNAME:CDT
TZOFFSETFROM:-0600
TZOFFSETTO:-0500
END:DAYLIGHT
END:VTIMEZONE
END:VCALENDAR
