BEGIN:VCALENDAR
VERSION:2.0
PRODID:-//Plone.org//NONSGML plone.app.event//EN
X-WR-TIMEZONE:US/Central
BEGIN:VEVENT
SUMMARY:New Year's Day: Library Closed
DTSTART;VALUE=DATE:20251231
DTEND;VALUE=DATE:20260104
DTSTAMP:20260422T024316Z
UID:a3c45a3ac5a041779fcb8620ffbe0b91@saas_stack_varnish:6080
CATEGORIES:closed
CREATED:20210113T184258Z
DESCRIPTION:The library will be closed in observance of the New Years Holi
 day.
LAST-MODIFIED:20230822T200518Z
URL:https://www.dulanylibrary.org/calendar-news/events/new-years-day-libra
 ry-closed/2025-12-31
END:VEVENT
END:VCALENDAR
