BEGIN:VCALENDAR
VERSION:2.0
PRODID:-//Plone.org//NONSGML plone.app.event//EN
X-WR-TIMEZONE:US/Central
BEGIN:VEVENT
SUMMARY:Memorial Day Weekend: Library Closed
DTSTART;VALUE=DATE:20250524
DTEND;VALUE=DATE:20250525
DTSTAMP:20260422T085609Z
UID:ac0606d49aeb4df088405aac89c1dac0@saas_stack_varnish:6080
CREATED:20240109T215948Z
DESCRIPTION:The Library will be closed in observance of Memorial Day
LAST-MODIFIED:20240109T215956Z
URL:https://www.dulanylibrary.org/calendar-news/events/memorial-day-weeken
 d-library-closed/2025-05-24
END:VEVENT
END:VCALENDAR
