BEGIN:VCALENDAR
VERSION:2.0
PRODID:-//Plone.org//NONSGML plone.app.event//EN
X-WR-TIMEZONE:US/Central
BEGIN:VEVENT
SUMMARY:Thanksgiving: Library Closed
DTSTART;VALUE=DATE:20261126
DTEND;VALUE=DATE:20261130
DTSTAMP:20260422T082534Z
UID:ecb1e4241ad0404e9b5ec0aa4290062c@saas_stack_varnish:6080
CATEGORIES:closed
CREATED:20230822T194723Z
DESCRIPTION:The library will be closed for Thanksgiving.
LAST-MODIFIED:20260109T224813Z
URL:https://www.dulanylibrary.org/calendar-news/events/closed-for-thanksgi
 ving
END:VEVENT
END:VCALENDAR
