BEGIN:VCALENDAR
VERSION:2.0
PRODID:-//Plone.org//NONSGML plone.app.event//EN
X-WR-TIMEZONE:US/Central
BEGIN:VEVENT
SUMMARY:Library Board Meeting
DTSTART;TZID=US/Central:20260203T173100
DTEND;TZID=US/Central:20260203T183100
DTSTAMP:20260421T200330Z
UID:38604a12fd0044138b2a4f2c5b1b4df2@saas_stack_varnish:6080
CREATED:20260108T182130Z
DESCRIPTION:Monthly meeting of the library board of trustees
LAST-MODIFIED:20260108T182141Z
LOCATION:Library Board Room
URL:https://www.dulanylibrary.org/library-board-meeting-7
END:VEVENT
BEGIN:VEVENT
SUMMARY:Red Cross Blood Drive
DTSTART;TZID=US/Central:20260121T110000
DTEND;TZID=US/Central:20260121T150000
DTSTAMP:20260421T200330Z
UID:6225d2784bb64425bd77379a75d3c7a7@saas_stack_varnish:6080
CONTACT:https://www.redcrossblood.org/give.html/drive-results?zipSponsor=S
 alisburyMO
CREATED:20260107T235016Z
LAST-MODIFIED:20260108T180341Z
LOCATION:Library Basement
URL:https://www.dulanylibrary.org/red-cross-blood-drive
END:VEVENT
BEGIN:VEVENT
SUMMARY:Salisbury Martial Arts Class
DTSTART;TZID=US/Central:20260424T183000
DTEND;TZID=US/Central:20260424T194500
DTSTAMP:20260421T200330Z
UID:0e613a61ee2947da982d25dc0ba5afc2@saas_stack_varnish:6080
RRULE:FREQ=WEEKLY;UNTIL=20270101T000000;BYDAY=MO,FR
CONTACT:Dave Apel\, https://www.younwha.com/
CREATED:20260108T181934Z
DESCRIPTION:The Salisbury Martial Arts Class meets in the Dulany Memorial 
 Library basement every Monday and Friday from 6:30-7:45PM.
LAST-MODIFIED:20260108T181955Z
LOCATION:Library Basement
URL:https://www.dulanylibrary.org/salisbury-martial-arts-class
END:VEVENT
BEGIN:VEVENT
SUMMARY:Library Board Meeting
DTSTART;TZID=US/Central:20251209T173000
DTSTAMP:20260421T200330Z
UID:559ab0a8284441458d4f578109c4b97b@saas_stack_varnish:6080
CREATED:20251121T204641Z
DESCRIPTION:Monthly meeting of the library board members
LAST-MODIFIED:20251121T204652Z
URL:https://www.dulanylibrary.org/library-board-meeting-6
END:VEVENT
BEGIN:VEVENT
SUMMARY:Library Board Meeting
DTSTART;TZID=US/Central:20251104T173000
DTSTAMP:20260421T200330Z
UID:b9bb2832af014ddb98f3caf58c59b1d3@saas_stack_varnish:6080
CREATED:20251015T225352Z
DESCRIPTION:Monthly meeting of the library board
LAST-MODIFIED:20251015T225404Z
LOCATION:Library Board Room
URL:https://www.dulanylibrary.org/library-board-meeting-5
END:VEVENT
BEGIN:VEVENT
SUMMARY:Library Board Meeting
DTSTART;TZID=US/Central:20250923T173000
DTEND;TZID=US/Central:20250923T183000
DTSTAMP:20260421T200330Z
UID:5600ac1af11c411a85d0cd01883f5227@saas_stack_varnish:6080
CREATED:20250827T171750Z
DESCRIPTION:Monthly meeting of the library board and director.
LAST-MODIFIED:20250827T172118Z
URL:https://www.dulanylibrary.org/library-board-meeting-4
END:VEVENT
BEGIN:VEVENT
SUMMARY:Library Board Meeting
DTSTART;TZID=US/Central:20250826T180000
DTSTAMP:20260421T200330Z
UID:81b7527a2c8b42ddafeebb020ad400bb@saas_stack_varnish:6080
CREATED:20250724T152733Z
DESCRIPTION:Monthly meeting of the library's board of trustees.
LAST-MODIFIED:20250724T152747Z
LOCATION:Library Board Room
URL:https://www.dulanylibrary.org/library-board-meeting-3
END:VEVENT
BEGIN:VEVENT
SUMMARY:Summer Reading Program - STEM Kits
DTSTART;TZID=US/Central:20250728T130000
DTEND;TZID=US/Central:20250728T140000
DTSTAMP:20260421T200330Z
UID:0255d3ac59b5432dbaaf9ff644042b39@saas_stack_varnish:6080
CREATED:20250626T173032Z
LAST-MODIFIED:20250724T152815Z
URL:https://www.dulanylibrary.org/summer-reading-program-stem-kits
END:VEVENT
BEGIN:VEVENT
SUMMARY:Library Board Meeting
DTSTART;TZID=US/Central:20250723T180000
DTSTAMP:20260421T200330Z
UID:4b092207ec554c3886b3d9546fab36d0@saas_stack_varnish:6080
CREATED:20250624T195427Z
DESCRIPTION:Monthly meeting of the Library Board
LAST-MODIFIED:20250701T155835Z
URL:https://www.dulanylibrary.org/library-board-meeting-2
END:VEVENT
BEGIN:VEVENT
SUMMARY:Summer Reading Program: Story Time and Craft
DTSTART;TZID=US/Central:20250714T130000
DTEND;TZID=US/Central:20250714T140000
DTSTAMP:20260421T200330Z
UID:7bd97da7e398406dbda2929cd617312c@saas_stack_varnish:6080
CREATED:20250623T162857Z
LAST-MODIFIED:20250623T162935Z
URL:https://www.dulanylibrary.org/summer-reading-program-story-time-and-cr
 aft-1
END:VEVENT
BEGIN:VEVENT
SUMMARY:Summer Reading Program - Storytime and Craft
DTSTART;TZID=US/Central:20250707T130000
DTSTAMP:20260421T200330Z
UID:8bdbc686655b4fcfb7d50cfa03a7c97f@saas_stack_varnish:6080
CONTACT:https://www.dulanylibrary.org/calendar-news/summer-reading
CREATED:20250607T162229Z
DESCRIPTION:Storytime and Craft event
LAST-MODIFIED:20250607T164623Z
URL:https://www.dulanylibrary.org/summer-reading-program-storytime-and-cra
 ft-1
END:VEVENT
BEGIN:VEVENT
SUMMARY:Independence Day: Library Closed
DTSTART;VALUE=DATE:20260704
DTEND;VALUE=DATE:20260705
DTSTAMP:20260421T200330Z
UID:c449c57363c94a908b5868725f11303f@saas_stack_varnish:6080
RRULE:FREQ=YEARLY;COUNT=7;BYMONTHDAY=4;BYMONTH=7
CATEGORIES:closed
CREATED:20210113T184738Z
DESCRIPTION:The Library will be closed in observance of Independence Day
LAST-MODIFIED:20230711T135122Z
URL:https://www.dulanylibrary.org/calendar-news/events/independence-day-li
 brary-closed
END:VEVENT
BEGIN:VEVENT
SUMMARY:Summer Reading Program: Story Time and Craft
DTSTART;TZID=US/Central:20250701T130000
DTEND;TZID=US/Central:20250701T140000
DTSTAMP:20260421T200330Z
UID:c28ed1c8b84c437f9921ef5340e7d83c@saas_stack_varnish:6080
CREATED:20250623T162610Z
LAST-MODIFIED:20250623T163016Z
URL:https://www.dulanylibrary.org/summer-reading-program-story-time-and-cr
 aft
END:VEVENT
BEGIN:VEVENT
SUMMARY:Summer Reading Program - Tethered Hot Air Balloon
DTSTART;TZID=US/Central:20250625T190000
DTEND;TZID=US/Central:20250625T210000
DTSTAMP:20260421T200330Z
UID:1fb75ecd92ae4ce2aa74ae2a5d535ef0@saas_stack_varnish:6080
CONTACT:https://www.dulanylibrary.org/calendar-news/summer-reading
CREATED:20250607T161623Z
DESCRIPTION:Tethered Hot Air Balloon Event
LAST-MODIFIED:20250623T162328Z
LOCATION:Pott's Park
URL:https://www.dulanylibrary.org/summer-reading-program-tethered-hot-air-
 balloon
END:VEVENT
BEGIN:VEVENT
SUMMARY:Library Closed: Juneteenth
DTSTART;VALUE=DATE:20260619
DTEND;VALUE=DATE:20260620
DTSTAMP:20260421T200330Z
UID:6d571bacbb2a41e99c7e32865ed1370e@saas_stack_varnish:6080
RRULE:FREQ=YEARLY;COUNT=7;BYMONTHDAY=19;BYMONTH=6
CREATED:20240614T173512Z
DESCRIPTION:The library will be closed for Juneteenth
LAST-MODIFIED:20240614T173516Z
URL:https://www.dulanylibrary.org/library-closed-juneteenth
END:VEVENT
BEGIN:VEVENT
SUMMARY:Summer Reading Program - Storytime and Craft
DTSTART;TZID=US/Central:20250617T130000
DTSTAMP:20260421T200330Z
UID:2b50138159ec497b915720c39ac2dde1@saas_stack_varnish:6080
CONTACT:https://www.dulanylibrary.org/calendar-news/summer-reading
CREATED:20250607T161304Z
DESCRIPTION:Storytime and Craft
LAST-MODIFIED:20250607T164524Z
URL:https://www.dulanylibrary.org/summer-reading-program-storytime-and-cra
 ft
END:VEVENT
BEGIN:VEVENT
SUMMARY:Summer Reading Program - EMT Day
DTSTART;TZID=US/Central:20250610T130000
DTSTAMP:20260421T200330Z
UID:88854aa197a142b4af6359df2777cba0@saas_stack_varnish:6080
CONTACT:https://www.dulanylibrary.org/calendar-news/summer-reading
CREATED:20250607T160958Z
DESCRIPTION:Emergency Medical Technicians Day
LAST-MODIFIED:20250607T164443Z
URL:https://www.dulanylibrary.org/summer-reading-program-emt-day
END:VEVENT
BEGIN:VEVENT
SUMMARY:Memorial Day: Library Closed
DTSTART;VALUE=DATE:20260525
DTEND;VALUE=DATE:20260526
DTSTAMP:20260421T200330Z
UID:715f661a27a0481ba161d74d6c9aa8fa@saas_stack_varnish:6080
RRULE:FREQ=YEARLY;COUNT=7;BYDAY=-1MO;BYMONTH=5
CATEGORIES:closed
CREATED:20210113T184632Z
DESCRIPTION:The Library will be closed in observance of Memorial Day
LAST-MODIFIED:20230711T135104Z
URL:https://www.dulanylibrary.org/calendar-news/events/memorial-day-librar
 y-closed
END:VEVENT
BEGIN:VEVENT
SUMMARY:Memorial Day Weekend: Library Closed
DTSTART;VALUE=DATE:20260523
DTEND;VALUE=DATE:20260524
DTSTAMP:20260421T200330Z
UID:ac0606d49aeb4df088405aac89c1dac0@saas_stack_varnish:6080
RRULE:FREQ=YEARLY;COUNT=7;BYDAY=+4SA;BYMONTH=5
CREATED:20240109T215948Z
DESCRIPTION:The Library will be closed in observance of Memorial Day
LAST-MODIFIED:20240109T215956Z
URL:https://www.dulanylibrary.org/calendar-news/events/memorial-day-weeken
 d-library-closed
END:VEVENT
BEGIN:VEVENT
SUMMARY:President's Day: Library Closed
DTSTART;VALUE=DATE:20270215
DTEND;VALUE=DATE:20270216
DTSTAMP:20260421T200330Z
UID:85c690a3fcf94b67970a36021da3f992@saas_stack_varnish:6080
RRULE:FREQ=YEARLY;COUNT=7;BYDAY=+3MO;BYMONTH=2
CATEGORIES:closed
CREATED:20220418T161503Z
DESCRIPTION:The Library will be closed in observance of President's Day
LAST-MODIFIED:20230711T135047Z
URL:https://www.dulanylibrary.org/calendar-news/events/presidents-day-libr
 ary-closed
END:VEVENT
BEGIN:VEVENT
SUMMARY:American Red Cross Blood Drive
DTSTART;TZID=US/Central:20250114T110000
DTEND;TZID=US/Central:20250114T150000
DTSTAMP:20260421T200330Z
UID:2ba6b5359f394898a535ee845df2b531@saas_stack_varnish:6080
CONTACT:660-388-5712\, salisburydulanylibrary@gmail.com\, https://www.redc
 rossblood.org/give.html/drive-results?zipSponsor=SalisburyMO
CREATED:20241213T183638Z
DESCRIPTION:The American Red Cross Blood Drive Event at Dulany Memorial Li
 brary
LAST-MODIFIED:20241213T190456Z
LOCATION:Dulany Library Basement
URL:https://www.dulanylibrary.org/calendar-news/events/american-red-cross-
 blood-drive
END:VEVENT
BEGIN:VEVENT
SUMMARY:Salisbury Martial Arts
DTSTART;TZID=US/Central:20230825T183000
DTEND;TZID=US/Central:20230825T194500
DTSTAMP:20260421T200330Z
UID:fdbf05186535487e82f45ed977146a42@saas_stack_varnish:6080
RRULE:FREQ=WEEKLY;UNTIL=20251231T000000;BYDAY=MO,FR
EXDATE;TZID=US/Central:20230904T000000,20231009T000000,20231225T000000,202
 40101T000000,20241227T000000,20241230T000000,20250106T000000
CONTACT:Dave Apel\, 660-651-3447
CREATED:20230824T192427Z
DESCRIPTION:Salisbury Martial Arts Class
LAST-MODIFIED:20250106T144716Z
LOCATION:Dulany Library Basement
URL:https://www.dulanylibrary.org/calendar-news/events/salisbury-martial-a
 rts
END:VEVENT
BEGIN:VEVENT
SUMMARY:New Year's Day: Library Closed
DTSTART;VALUE=DATE:20261231
DTEND;VALUE=DATE:20270104
DTSTAMP:20260421T200330Z
UID:a3c45a3ac5a041779fcb8620ffbe0b91@saas_stack_varnish:6080
RRULE:FREQ=YEARLY;COUNT=7;BYMONTHDAY=31;BYMONTH=12
CATEGORIES:closed
CREATED:20210113T184258Z
DESCRIPTION:The library will be closed in observance of the New Years Holi
 day.
LAST-MODIFIED:20230822T200518Z
URL:https://www.dulanylibrary.org/calendar-news/events/new-years-day-libra
 ry-closed
END:VEVENT
BEGIN:VEVENT
SUMMARY:Christmas: Library Closed
DTSTART;VALUE=DATE:20261223
DTEND;VALUE=DATE:20261228
DTSTAMP:20260421T200330Z
UID:6adfab3021bc46fa8b20ac04b8644ef6@saas_stack_varnish:6080
RRULE:FREQ=YEARLY;COUNT=7;BYMONTHDAY=23;BYMONTH=12
CATEGORIES:closed
CREATED:20210113T202648Z
DESCRIPTION:The Library will be closed for Christmas
LAST-MODIFIED:20230822T195154Z
URL:https://www.dulanylibrary.org/calendar-news/events/christmas-library-c
 losed
END:VEVENT
BEGIN:VEVENT
SUMMARY:Thanksgiving: Library Closed
DTSTART;VALUE=DATE:20241128
DTEND;VALUE=DATE:20241202
DTSTAMP:20260421T200330Z
UID:522030bd5a044f7c85db3e1ea350ce1d@saas_stack_varnish:6080
CREATED:20241002T212915Z
DESCRIPTION:We will be closed for the Thanksgiving holiday.
LAST-MODIFIED:20241002T213057Z
URL:https://www.dulanylibrary.org/calendar-news/events/closed-for-thanksgi
 ving-1
END:VEVENT
BEGIN:VEVENT
SUMMARY:Library Board Meeting
DTSTART;TZID=US/Central:20241112T180000
DTSTAMP:20260421T200330Z
UID:a3c95cd9b0df46d287eb9d8f3e02728e@saas_stack_varnish:6080
CREATED:20241002T212608Z
DESCRIPTION:Monthly meeting of the Library Board
LAST-MODIFIED:20241002T212614Z
URL:https://www.dulanylibrary.org/calendar-news/events/library-board-meeti
 ng-9
END:VEVENT
BEGIN:VEVENT
SUMMARY:Library Board Meeting
DTSTART;TZID=US/Central:20240905T180000
DTSTAMP:20260421T200330Z
UID:42b46bace94643d8ab08f07628145e62@saas_stack_varnish:6080
CREATED:20240808T181235Z
DESCRIPTION:Monthly board meeting for the library.
LAST-MODIFIED:20240808T181311Z
LOCATION:Dulany Library
URL:https://www.dulanylibrary.org/calendar-news/events/library-board-meeti
 ng-7
END:VEVENT
BEGIN:VEVENT
SUMMARY:Library Board Meeting
DTSTART;TZID=US/Central:20240905T180000
DTSTAMP:20260421T200330Z
UID:08851729934f4ce7ae25828dc51a859b@saas_stack_varnish:6080
CREATED:20240815T172039Z
DESCRIPTION:Monthly meeting of the library board
LAST-MODIFIED:20240815T172044Z
URL:https://www.dulanylibrary.org/calendar-news/events/library-board-meeti
 ng-8
END:VEVENT
BEGIN:VEVENT
SUMMARY:Library Board Meeting
DTSTART;TZID=US/Central:20240806T180000
DTEND;TZID=US/Central:20240806T190000
DTSTAMP:20260421T200330Z
UID:cd79cf8455f34dbd87e1a7b21add7320@saas_stack_varnish:6080
CREATED:20240711T210927Z
DESCRIPTION:Monthly library board meeting at Dulany Memorial Library
LAST-MODIFIED:20240711T210932Z
LOCATION:Library - main area
URL:https://www.dulanylibrary.org/calendar-news/events/library-board-meeti
 ng-6
END:VEVENT
BEGIN:VEVENT
SUMMARY:Red Cross Blood Drive
DTSTART;TZID=US/Central:20240724T110000
DTEND;TZID=US/Central:20240724T150000
DTSTAMP:20260421T200330Z
UID:7f5685195eff4cb8bf0422ab075789cb@saas_stack_varnish:6080
CONTACT:Abby Overstreet\, 1-800-733-2767\, abbey.overstreet@redcross.org
CREATED:20240711T201826Z
DESCRIPTION:Red Cross Blood Drive at Dulany Memorial Library
LAST-MODIFIED:20240711T211100Z
LOCATION:501 S. Broadway (Library Basement)
URL:https://www.dulanylibrary.org/calendar-news/events/red-cross-blood-dri
 ve
END:VEVENT
BEGIN:VEVENT
SUMMARY:Summer Reading Program Event: WildHeart
DTSTART;TZID=US/Central:20240711T130000
DTEND;TZID=US/Central:20240711T140000
DTSTAMP:20260421T200330Z
UID:7660d51b13374823bb755e6574b2453c@saas_stack_varnish:6080
CONTACT:salisburydulanylibrary@gmail.com
CREATED:20240422T230022Z
DESCRIPTION:WildHeart will be performing songs and showing off animals at 
 Dulany Library's Summer Reading Program event.
LAST-MODIFIED:20240614T174001Z
URL:https://www.dulanylibrary.org/calendar-news/events/wildheart-summer-re
 ading-program-event
END:VEVENT
BEGIN:VEVENT
SUMMARY:Library Board Meeting
DTSTART;TZID=US/Central:20240709T180000
DTSTAMP:20260421T200330Z
UID:0ce25c56036b42c4bc5dfd8192a1ac44@saas_stack_varnish:6080
CREATED:20240614T172252Z
DESCRIPTION:Monthly meeting of the Library Board
LAST-MODIFIED:20240614T172306Z
LOCATION:Dulany Library
URL:https://www.dulanylibrary.org/library-board-meeting
END:VEVENT
BEGIN:VEVENT
SUMMARY:Summer Reading Program Reading Event
DTSTART;TZID=US/Central:20240702T130000
DTEND;TZID=US/Central:20240702T140000
DTSTAMP:20260421T200330Z
UID:5da16e8a9af94f7aad393d9f149723d1@saas_stack_varnish:6080
CONTACT:salisburydulanylibrary@gmail.com
CREATED:20240614T173057Z
DESCRIPTION:Summer Reading Program Reading Event
LAST-MODIFIED:20240614T173102Z
LOCATION:Dulany Library Basement
URL:https://www.dulanylibrary.org/summer-reading-program-reading-event
END:VEVENT
BEGIN:VEVENT
SUMMARY:Summer Reading Program Tethered Hot Air Balloon Event
DTSTART;TZID=US/Central:20240625T183000
DTEND;TZID=US/Central:20240625T203000
DTSTAMP:20260421T200330Z
UID:536140c21c6a4991b16d71762c3aa22f@saas_stack_varnish:6080
CONTACT:salisburydulanylibrary@gmail.com\, https://www.dulanylibrary.org/c
 alendar-news/summer-reading
CREATED:20240614T172910Z
DESCRIPTION:Summer Reading Program Tethered Hot Air Balloon Event
LAST-MODIFIED:20240614T172916Z
LOCATION:105 N. Willie Ave.
URL:https://www.dulanylibrary.org/summer-reading-program-tethered-hot-air-
 balloon-event
END:VEVENT
BEGIN:VEVENT
SUMMARY:Library Board Meeting
DTSTART;TZID=US/Central:20240611T180000
DTSTAMP:20260421T200330Z
UID:1c224d72322649e39fd1a0bd60dc2135@saas_stack_varnish:6080
CREATED:20240502T185527Z
DESCRIPTION:Monthly Board Meeting for the Library
LAST-MODIFIED:20240502T185532Z
URL:https://www.dulanylibrary.org/calendar-news/events/library-board-meeti
 ng-5
END:VEVENT
BEGIN:VEVENT
SUMMARY:Marko Polo (Summer Reading Program Event)
DTSTART;TZID=US/Central:20240610T150000
DTEND;TZID=US/Central:20240610T160000
DTSTAMP:20260421T200330Z
UID:2a3e2b16a23b4998989c52e0068d53bb@saas_stack_varnish:6080
CREATED:20240422T225439Z
DESCRIPTION:Marko Polo will be performing at the library for one of their 
 Summer Reading Program events.
LAST-MODIFIED:20240422T225444Z
URL:https://www.dulanylibrary.org/calendar-news/events/marko-polo-summer-r
 eading-program-event
END:VEVENT
BEGIN:VEVENT
SUMMARY:EMT Day (Summer Reading Program Event)
DTSTART;TZID=US/Central:20240604T130000
DTSTAMP:20260421T200330Z
UID:588887d847e44415900d73aad20d100b@saas_stack_varnish:6080
CREATED:20240422T225043Z
DESCRIPTION:EMT Day for Summer Reading Program
LAST-MODIFIED:20240422T225049Z
URL:https://www.dulanylibrary.org/calendar-news/events/emt-day-summer-read
 ing-program-event
END:VEVENT
BEGIN:VEVENT
SUMMARY:Library Board Meeting
DTSTART;TZID=US/Central:20240502T180000
DTSTAMP:20260421T200330Z
UID:98aa36f56eb64be28e66e71ed58670fd@saas_stack_varnish:6080
CREATED:20240408T205758Z
DESCRIPTION:Monthly library board meeting
LAST-MODIFIED:20240408T205804Z
URL:https://www.dulanylibrary.org/calendar-news/events/library-board-meeti
 ng-4
END:VEVENT
BEGIN:VEVENT
SUMMARY:Community Discussion Regarding the Library Entrance
DTSTART;TZID=US/Central:20240501T183000
DTSTAMP:20260421T200330Z
UID:d7bae0466ee449dea25f8d8e85fcc888@saas_stack_varnish:6080
CONTACT:Erin Strodtman\, 6603885712\, salisburydulanylibrary@gmail.com
CREATED:20240408T205241Z
DESCRIPTION:We will be holding a public discussion regarding renovating th
 e entrance on the south side of our building to make it more accessible fo
 r those with mobility issues.
LAST-MODIFIED:20240408T205249Z
LOCATION:Library Basement
URL:https://www.dulanylibrary.org/calendar-news/events/community-discussio
 n-regarding-the-library-entrance
END:VEVENT
BEGIN:VEVENT
SUMMARY:Highway 24 Rummage Sale
DTSTART;TZID=US/Central:20240420T080000
DTEND;TZID=US/Central:20240420T120000
DTSTAMP:20260421T200330Z
UID:630db47ec8564b58b9f584a0f1e0d7e3@saas_stack_varnish:6080
CREATED:20240408T210838Z
DESCRIPTION:The library will be participating in the Highway 24 Rummage Sa
 le
LAST-MODIFIED:20240408T210845Z
URL:https://www.dulanylibrary.org/calendar-news/events/highway-24-rummage-
 sale
END:VEVENT
BEGIN:VEVENT
SUMMARY:Highway 24 Rummage Sale
DTSTART;TZID=US/Central:20240419T120000
DTEND;TZID=US/Central:20240419T170000
DTSTAMP:20260421T200330Z
UID:9eb2cebe2efe42ea81e60d003fee1c91@saas_stack_varnish:6080
CREATED:20240408T210717Z
DESCRIPTION:The library will be participating in the Highway 24 Rummage Sa
 le.
LAST-MODIFIED:20240408T210724Z
URL:https://www.dulanylibrary.org/calendar-news/highway-24-rummage-sale
END:VEVENT
BEGIN:VEVENT
SUMMARY:Board of Trustees' Meetings
DTSTART;TZID=US/Central:20240321T180000
DTSTAMP:20260421T200330Z
UID:593cfb0a90b04a9e8ab15c52e4d555c2@saas_stack_varnish:6080
ATTENDEE;CN="All are Welcome";ROLE=REQ-PARTICIPANT:All are Welcome
CONTACT:Erin Strodtman\, Director\, 660-388-5712\, salisburydulanylibrary@
 gmail.com
CREATED:20210106T205316Z
DESCRIPTION:Public welcome. Time is available for comments from the public
 .
LAST-MODIFIED:20240207T181323Z
LOCATION:Board Room
URL:https://www.dulanylibrary.org/calendar-news/events/board-of-trustees-m
 eetings
END:VEVENT
BEGIN:VEVENT
SUMMARY:Library Board Meeting
DTSTART;TZID=US/Central:20240110T181500
DTSTAMP:20260421T200330Z
UID:f57621777d684a419937e59989a1b0ea@saas_stack_varnish:6080
CREATED:20231202T180050Z
DESCRIPTION:Monthly board meeting for library business.
LAST-MODIFIED:20240109T214951Z
URL:https://www.dulanylibrary.org/calendar-news/events/library-board-meeti
 ng-3
END:VEVENT
BEGIN:VEVENT
SUMMARY:Library Board Meeting
DTSTART;TZID=US/Central:20231128T180000
DTSTAMP:20260421T200330Z
UID:643d0425902b4247b1d87b95aaaaf85e@saas_stack_varnish:6080
CREATED:20231025T170807Z
DESCRIPTION:Monthly Library Board Meeting
LAST-MODIFIED:20231025T170813Z
LOCATION:Dulany Library
URL:https://www.dulanylibrary.org/calendar-news/events/library-board-meeti
 ng-2
END:VEVENT
BEGIN:VEVENT
SUMMARY:Library Board Meeting
DTSTART;TZID=US/Central:20231024T180000
DTSTAMP:20260421T200330Z
UID:4f3b8c0e0465489eb05614fcd7dea76c@saas_stack_varnish:6080
ATTENDEE;CN="Library Board Members and open to the public";ROLE=REQ-PARTIC
 IPANT:Library Board Members and open to the public
CREATED:20230921T194439Z
DESCRIPTION:Regular meeting of the library board of trustees
LAST-MODIFIED:20230921T194445Z
LOCATION:Dulany Library
URL:https://www.dulanylibrary.org/calendar-news/events/library-board-meeti
 ng-1
END:VEVENT
BEGIN:VEVENT
SUMMARY:Library Board Meeting
DTSTART;TZID=US/Central:20230919T180000
DTSTAMP:20260421T200330Z
UID:d0b4f6094b174b43a47d39ed433a9802@saas_stack_varnish:6080
ATTENDEE;CN="Library Board Members and open to the public";ROLE=REQ-PARTIC
 IPANT:Library Board Members and open to the public
CREATED:20230822T182429Z
DESCRIPTION:Regular meeting of the library board of trustees
LAST-MODIFIED:20230921T194326Z
LOCATION:Library Board Room
URL:https://www.dulanylibrary.org/calendar-news/events/library-board-meeti
 ng
END:VEVENT
BEGIN:VEVENT
SUMMARY:Closed Labor Day Weekend
DTSTART;VALUE=DATE:20230902
DTEND;VALUE=DATE:20230905
DTSTAMP:20260421T200330Z
UID:bad37af549524db99282dada96990536@saas_stack_varnish:6080
CREATED:20230822T194329Z
LAST-MODIFIED:20230822T194338Z
URL:https://www.dulanylibrary.org/calendar-news/events/closed-labor-day-we
 ekend
END:VEVENT
BEGIN:VTIMEZONE
TZID:US/Central
X-LIC-LOCATION:US/Central
BEGIN:STANDARD
DTSTART:20251102T010000
TZNAME:CST
TZOFFSETFROM:-0500
TZOFFSETTO:-0600
END:STANDARD
BEGIN:DAYLIGHT
DTSTART:20260308T030000
TZNAME:CDT
TZOFFSETFROM:-0600
TZOFFSETTO:-0500
END:DAYLIGHT
BEGIN:DAYLIGHT
DTSTART:20250309T030000
TZNAME:CDT
TZOFFSETFROM:-0600
TZOFFSETTO:-0500
END:DAYLIGHT
BEGIN:STANDARD
DTSTART:20241103T010000
TZNAME:CST
TZOFFSETFROM:-0500
TZOFFSETTO:-0600
END:STANDARD
BEGIN:DAYLIGHT
DTSTART:20230312T030000
TZNAME:CDT
TZOFFSETFROM:-0600
TZOFFSETTO:-0500
END:DAYLIGHT
BEGIN:DAYLIGHT
DTSTART:20240310T030000
TZNAME:CDT
TZOFFSETFROM:-0600
TZOFFSETTO:-0500
END:DAYLIGHT
BEGIN:STANDARD
DTSTART:20231105T010000
TZNAME:CST
TZOFFSETFROM:-0500
TZOFFSETTO:-0600
END:STANDARD
END:VTIMEZONE
END:VCALENDAR
